BEGIN:VCALENDAR
VERSION:2.0
PRODID:-//Wuppertal Stingrays - ECPv6.15.20//NONSGML v1.0//EN
CALSCALE:GREGORIAN
METHOD:PUBLISH
X-WR-CALNAME:Wuppertal Stingrays
X-ORIGINAL-URL:https://wuppertalstingrays.de
X-WR-CALDESC:Veranstaltungen für Wuppertal Stingrays
REFRESH-INTERVAL;VALUE=DURATION:PT1H
X-Robots-Tag:noindex
X-PUBLISHED-TTL:PT1H
BEGIN:VTIMEZONE
TZID:Europe/Berlin
BEGIN:DAYLIGHT
TZOFFSETFROM:+0100
TZOFFSETTO:+0200
TZNAME:CEST
DTSTART:20230326T010000
END:DAYLIGHT
BEGIN:STANDARD
TZOFFSETFROM:+0200
TZOFFSETTO:+0100
TZNAME:CET
DTSTART:20231029T010000
END:STANDARD
BEGIN:DAYLIGHT
TZOFFSETFROM:+0100
TZOFFSETTO:+0200
TZNAME:CEST
DTSTART:20240331T010000
END:DAYLIGHT
BEGIN:STANDARD
TZOFFSETFROM:+0200
TZOFFSETTO:+0100
TZNAME:CET
DTSTART:20241027T010000
END:STANDARD
BEGIN:DAYLIGHT
TZOFFSETFROM:+0100
TZOFFSETTO:+0200
TZNAME:CEST
DTSTART:20250330T010000
END:DAYLIGHT
BEGIN:STANDARD
TZOFFSETFROM:+0200
TZOFFSETTO:+0100
TZNAME:CET
DTSTART:20251026T010000
END:STANDARD
BEGIN:DAYLIGHT
TZOFFSETFROM:+0100
TZOFFSETTO:+0200
TZNAME:CEST
DTSTART:20260329T010000
END:DAYLIGHT
BEGIN:STANDARD
TZOFFSETFROM:+0200
TZOFFSETTO:+0100
TZNAME:CET
DTSTART:20261025T010000
END:STANDARD
END:VTIMEZONE
BEGIN:VEVENT
DTSTART;TZID=Europe/Berlin:20250830T150000
DTEND;TZID=Europe/Berlin:20250830T170000
DTSTAMP:20260423T233438
CREATED:20250616T163547Z
LAST-MODIFIED:20250616T163549Z
UID:10745-1756566000-1756573200@wuppertalstingrays.de
SUMMARY:Herren LL vs. Duisburg Flying Bats
DESCRIPTION:
URL:https://wuppertalstingrays.de/event/herren-ll-vs-duisburg-flying-bats/
LOCATION:Wuppertal Stingrays – Baseball\, Wuppertal Stingrays Ballpark\, Oberbergische Straße 87\, Wuppertal\, 42285
END:VEVENT
BEGIN:VEVENT
DTSTART;TZID=Europe/Berlin:20250830T100000
DTEND;TZID=Europe/Berlin:20250830T170000
DTSTAMP:20260423T233438
CREATED:20250616T163618Z
LAST-MODIFIED:20250616T163619Z
UID:10747-1756548000-1756573200@wuppertalstingrays.de
SUMMARY:U10 vs. Ratingen Goose-Necks
DESCRIPTION:
URL:https://wuppertalstingrays.de/event/u10-vs-ratingen-goose-necks/
LOCATION:Wuppertal Stingrays – Baseball\, Wuppertal Stingrays Ballpark\, Oberbergische Straße 87\, Wuppertal\, 42285
END:VEVENT
BEGIN:VEVENT
DTSTART;TZID=Europe/Berlin:20250824T150000
DTEND;TZID=Europe/Berlin:20250824T170000
DTSTAMP:20260423T233438
CREATED:20250616T163441Z
LAST-MODIFIED:20250616T163443Z
UID:10741-1756047600-1756054800@wuppertalstingrays.de
SUMMARY:Herren LL @ Solingen Alligators
DESCRIPTION:
URL:https://wuppertalstingrays.de/event/herren-ll-solingen-alligators/
LOCATION:Solingen Alligators – Baseballpark Weyersberg\, Baseballpark Weyersberg\, Solingen\, 42655\, Deutschland
END:VEVENT
BEGIN:VEVENT
DTSTART;TZID=Europe/Berlin:20250824T110000
DTEND;TZID=Europe/Berlin:20250824T170000
DTSTAMP:20260423T233438
CREATED:20250616T163513Z
LAST-MODIFIED:20250616T163515Z
UID:10743-1756033200-1756054800@wuppertalstingrays.de
SUMMARY:U12 @ Krefeld Crows
DESCRIPTION:
URL:https://wuppertalstingrays.de/event/u12-krefeld-crows/
LOCATION:Krefeld Crows – Ballpark Krefeld\, Randstraße 40\, Krefeld\, 47804\, Deutschland
END:VEVENT
BEGIN:VEVENT
DTSTART;TZID=Europe/Berlin:20250816T120000
DTEND;TZID=Europe/Berlin:20250816T170000
DTSTAMP:20260423T233438
CREATED:20250616T163400Z
LAST-MODIFIED:20250616T163402Z
UID:10739-1755345600-1755363600@wuppertalstingrays.de
SUMMARY:2. Bundesliga Herren @ Dortmund Wanderers
DESCRIPTION:
URL:https://wuppertalstingrays.de/event/2-bundesliga-herren-dortmund-wanderers/
LOCATION:Dortmund Wanderers – Hoeschpark\, Dortmund-Wanderers e.V. Baseballplatz Kirchderner Str. 35\, Dortmund\, 44145\, Deutschland
END:VEVENT
BEGIN:VEVENT
DTSTART;TZID=Europe/Berlin:20250726T120000
DTEND;TZID=Europe/Berlin:20250726T170000
DTSTAMP:20260423T233438
CREATED:20250616T163324Z
LAST-MODIFIED:20250616T163326Z
UID:10737-1753531200-1753549200@wuppertalstingrays.de
SUMMARY:2. Bundesliga Herren vs. Solingen Alligators
DESCRIPTION:
URL:https://wuppertalstingrays.de/event/2-bundesliga-herren-vs-solingen-alligators/
LOCATION:Wuppertal Stingrays – Baseball\, Wuppertal Stingrays Ballpark\, Oberbergische Straße 87\, Wuppertal\, 42285
END:VEVENT
BEGIN:VEVENT
DTSTART;TZID=Europe/Berlin:20250720T130000
DTEND;TZID=Europe/Berlin:20250720T170000
DTSTAMP:20260423T233438
CREATED:20250616T163252Z
LAST-MODIFIED:20250616T163254Z
UID:10735-1753016400-1753030800@wuppertalstingrays.de
SUMMARY:Herren LL @ Duisburg Flying Bats
DESCRIPTION:
URL:https://wuppertalstingrays.de/event/herren-ll-duisburg-flying-bats/
END:VEVENT
BEGIN:VEVENT
DTSTART;TZID=Europe/Berlin:20250713T150000
DTEND;TZID=Europe/Berlin:20250713T170000
DTSTAMP:20260423T233438
CREATED:20250616T163138Z
LAST-MODIFIED:20250616T163141Z
UID:10731-1752418800-1752426000@wuppertalstingrays.de
SUMMARY:Herren LL @ Hochdahl Neandertaler
DESCRIPTION:
URL:https://wuppertalstingrays.de/event/herren-ll-hochdahl-neandertaler/
LOCATION:Hochdahl Neandertaler – Sportplatz Kemperdick\, Neandertaler Baseballclub Hochdahl\, Max-Planck-Straße 99\, Erkrath\, 40699\, Deutschland
END:VEVENT
BEGIN:VEVENT
DTSTART;TZID=Europe/Berlin:20250713T110000
DTEND;TZID=Europe/Berlin:20250713T170000
DTSTAMP:20260423T233438
CREATED:20250616T163223Z
LAST-MODIFIED:20250616T163226Z
UID:10733-1752404400-1752426000@wuppertalstingrays.de
SUMMARY:U15 vs. Ratingen Goose-Necks
DESCRIPTION:
URL:https://wuppertalstingrays.de/event/u15-vs-ratingen-goose-necks/
LOCATION:Wuppertal Stingrays – Baseball\, Wuppertal Stingrays Ballpark\, Oberbergische Straße 87\, Wuppertal\, 42285
END:VEVENT
BEGIN:VEVENT
DTSTART;TZID=Europe/Berlin:20250712T120000
DTEND;TZID=Europe/Berlin:20250712T170000
DTSTAMP:20260423T233438
CREATED:20250616T163107Z
LAST-MODIFIED:20250616T163109Z
UID:10729-1752321600-1752339600@wuppertalstingrays.de
SUMMARY:2. Bundesliga Herren vs. Neunkirchen Nightmares
DESCRIPTION:
URL:https://wuppertalstingrays.de/event/2-bundesliga-herren-vs-neunkirchen-nightmares/
LOCATION:Wuppertal Stingrays – Baseball\, Wuppertal Stingrays Ballpark\, Oberbergische Straße 87\, Wuppertal\, 42285
END:VEVENT
BEGIN:VEVENT
DTSTART;TZID=Europe/Berlin:20250706T150000
DTEND;TZID=Europe/Berlin:20250706T170000
DTSTAMP:20260423T233438
CREATED:20250616T162937Z
LAST-MODIFIED:20250616T162939Z
UID:10725-1751814000-1751821200@wuppertalstingrays.de
SUMMARY:Herren LL vs. Bonn Capitals 3
DESCRIPTION:
URL:https://wuppertalstingrays.de/event/herren-ll-vs-bonn-capitals-3/
LOCATION:Wuppertal Stingrays – Baseball\, Wuppertal Stingrays Ballpark\, Oberbergische Straße 87\, Wuppertal\, 42285
END:VEVENT
BEGIN:VEVENT
DTSTART;TZID=Europe/Berlin:20250706T110000
DTEND;TZID=Europe/Berlin:20250706T170000
DTSTAMP:20260423T233438
CREATED:20250616T163007Z
LAST-MODIFIED:20250616T163009Z
UID:10727-1751799600-1751821200@wuppertalstingrays.de
SUMMARY:U12 vs. Krefeld Crows am 06.07.2025
DESCRIPTION:
URL:https://wuppertalstingrays.de/event/u12-vs-krefeld-crows-am-06-07-2025/
LOCATION:Wuppertal Stingrays – Baseball\, Wuppertal Stingrays Ballpark\, Oberbergische Straße 87\, Wuppertal\, 42285
END:VEVENT
BEGIN:VEVENT
DTSTART;TZID=Europe/Berlin:20250705T120000
DTEND;TZID=Europe/Berlin:20250705T170000
DTSTAMP:20260423T233438
CREATED:20250616T162855Z
LAST-MODIFIED:20250616T162857Z
UID:10723-1751716800-1751734800@wuppertalstingrays.de
SUMMARY:2. Bundesliga Herren vs. Bonn Capitals 2
DESCRIPTION:
URL:https://wuppertalstingrays.de/event/2-bundesliga-herren-vs-bonn-capitals-2/
LOCATION:Wuppertal Stingrays – Baseball\, Wuppertal Stingrays Ballpark\, Oberbergische Straße 87\, Wuppertal\, 42285
END:VEVENT
BEGIN:VEVENT
DTSTART;TZID=Europe/Berlin:20250705T100000
DTEND;TZID=Europe/Berlin:20250705T170000
DTSTAMP:20260423T233438
CREATED:20250616T162823Z
LAST-MODIFIED:20250616T162826Z
UID:10721-1751709600-1751734800@wuppertalstingrays.de
SUMMARY:U15 @ Ratingen Goose-Necks
DESCRIPTION:
URL:https://wuppertalstingrays.de/event/u15-ratingen-goose-necks/
LOCATION:Ratingen Goose-Necks – New Hermann’s Field\, Ratingen Goose-Necks Ballpark\, Kahlenbergsweg 115\, Ratingen\, 40885\, Deutschland
END:VEVENT
BEGIN:VEVENT
DTSTART;TZID=Europe/Berlin:20250629T120000
DTEND;TZID=Europe/Berlin:20250629T170000
DTSTAMP:20260423T233438
CREATED:20250616T162748Z
LAST-MODIFIED:20250616T162750Z
UID:10719-1751198400-1751216400@wuppertalstingrays.de
SUMMARY:2. Bundesliga Herren @ Cologne Cardinals 2
DESCRIPTION:
URL:https://wuppertalstingrays.de/event/2-bundesliga-herren-cologne-cardinals-2/
LOCATION:Cologne Cardinals – Baseballstadion Köln\, Circlewood Stadium\, Köln\, 50933\, Deutschland
END:VEVENT
BEGIN:VEVENT
DTSTART;TZID=Europe/Berlin:20250629T110000
DTEND;TZID=Europe/Berlin:20250629T170000
DTSTAMP:20260423T233438
CREATED:20250616T162715Z
LAST-MODIFIED:20250616T162717Z
UID:10717-1751194800-1751216400@wuppertalstingrays.de
SUMMARY:U12 vs. Kottenforst Saints
DESCRIPTION:
URL:https://wuppertalstingrays.de/event/u12-vs-kottenforst-saints/
LOCATION:Wuppertal Stingrays – Baseball\, Wuppertal Stingrays Ballpark\, Oberbergische Straße 87\, Wuppertal\, 42285
END:VEVENT
BEGIN:VEVENT
DTSTART;TZID=Europe/Berlin:20250628T150000
DTEND;TZID=Europe/Berlin:20250628T170000
DTSTAMP:20260423T233438
CREATED:20250616T162119Z
LAST-MODIFIED:20250616T162122Z
UID:10711-1751122800-1751130000@wuppertalstingrays.de
SUMMARY:Herren LL vs. Solingen Alligators
DESCRIPTION:
URL:https://wuppertalstingrays.de/event/herren-ll-vs-solingen-alligators/
LOCATION:Wuppertal Stingrays – Baseball\, Wuppertal Stingrays Ballpark\, Oberbergische Straße 87\, Wuppertal\, 42285
END:VEVENT
BEGIN:VEVENT
DTSTART;TZID=Europe/Berlin:20250628T110000
DTEND;TZID=Europe/Berlin:20250628T170000
DTSTAMP:20260423T233438
CREATED:20250616T162237Z
LAST-MODIFIED:20250616T162240Z
UID:10715-1751108400-1751130000@wuppertalstingrays.de
SUMMARY:U10 @ Untouchables Paderborn
DESCRIPTION:
URL:https://wuppertalstingrays.de/event/u10-untouchables-paderborn/
LOCATION:Untouchables Paderborn – Ahorn-Ballpark\, Ahorn-Ballpark\, Ahornallee\, Paderborn\, 33106\, Deutschland
END:VEVENT
BEGIN:VEVENT
DTSTART;TZID=Europe/Berlin:20250628T110000
DTEND;TZID=Europe/Berlin:20250628T170000
DTSTAMP:20260423T233438
CREATED:20250616T162156Z
LAST-MODIFIED:20250616T162158Z
UID:10713-1751108400-1751130000@wuppertalstingrays.de
SUMMARY:U15 vs. SG Goose-Necks 2/Squirrels
DESCRIPTION:
URL:https://wuppertalstingrays.de/event/u15-vs-sg-goose-necks-2-squirrels/
LOCATION:Wuppertal Stingrays – Baseball\, Wuppertal Stingrays Ballpark\, Oberbergische Straße 87\, Wuppertal\, 42285
END:VEVENT
BEGIN:VEVENT
DTSTART;TZID=Europe/Berlin:20250622T120000
DTEND;TZID=Europe/Berlin:20250622T170000
DTSTAMP:20260423T233438
CREATED:20250616T162033Z
LAST-MODIFIED:20250616T162035Z
UID:10709-1750593600-1750611600@wuppertalstingrays.de
SUMMARY:2. Bundesliga Herren vs. Wesseling Vermins
DESCRIPTION:
URL:https://wuppertalstingrays.de/event/2-bundesliga-herren-vs-wesseling-vermins/
LOCATION:Wuppertal Stingrays – Baseball\, Wuppertal Stingrays Ballpark\, Oberbergische Straße 87\, Wuppertal\, 42285
END:VEVENT
BEGIN:VEVENT
DTSTART;TZID=Europe/Berlin:20250622T110000
DTEND;TZID=Europe/Berlin:20250622T170000
DTSTAMP:20260423T233438
CREATED:20250616T161952Z
LAST-MODIFIED:20250616T161954Z
UID:10707-1750590000-1750611600@wuppertalstingrays.de
SUMMARY:U12 @ Bonn Capitals 2
DESCRIPTION:
URL:https://wuppertalstingrays.de/event/u12-bonn-capitals-2/
LOCATION:Bonn Capitals – Stadion Rheinaue\, Bonn Capitals Baseball\, Bonn\, 53175\, Deutschland
END:VEVENT
BEGIN:VEVENT
DTSTART;TZID=Europe/Berlin:20250621T150000
DTEND;TZID=Europe/Berlin:20250621T170000
DTSTAMP:20260423T233438
CREATED:20250616T161529Z
LAST-MODIFIED:20250616T161531Z
UID:10703-1750518000-1750525200@wuppertalstingrays.de
SUMMARY:U15 vs. SG Crows/Senators
DESCRIPTION:
URL:https://wuppertalstingrays.de/event/u15-vs-sg-crows-senators/
LOCATION:Wuppertal Stingrays – Baseball\, Wuppertal Stingrays Ballpark\, Oberbergische Straße 87\, Wuppertal\, 42285
END:VEVENT
BEGIN:VEVENT
DTSTART;TZID=Europe/Berlin:20250621T130000
DTEND;TZID=Europe/Berlin:20250621T170000
DTSTAMP:20260423T233438
CREATED:20250616T161106Z
LAST-MODIFIED:20250616T161113Z
UID:10701-1750510800-1750525200@wuppertalstingrays.de
SUMMARY:2. Herren @ Zülpich Eagles
DESCRIPTION:
URL:https://wuppertalstingrays.de/event/2-herren-zuelpich-eagles/
END:VEVENT
BEGIN:VEVENT
DTSTART;TZID=Europe/Berlin:20250621T100000
DTEND;TZID=Europe/Berlin:20250621T170000
DTSTAMP:20260423T233438
CREATED:20250616T161918Z
LAST-MODIFIED:20250616T161920Z
UID:10705-1750500000-1750525200@wuppertalstingrays.de
SUMMARY:U10 @ Ratingen Goose-Necks
DESCRIPTION:
URL:https://wuppertalstingrays.de/event/u10-ratingen-goose-necks/
LOCATION:Ratingen Goose-Necks – New Hermann’s Field\, Ratingen Goose-Necks Ballpark\, Kahlenbergsweg 115\, Ratingen\, 40885\, Deutschland
END:VEVENT
BEGIN:VEVENT
DTSTART;TZID=Europe/Berlin:20250421T120000
DTEND;TZID=Europe/Berlin:20250421T170000
DTSTAMP:20260423T233438
CREATED:20250108T200347Z
LAST-MODIFIED:20250108T201422Z
UID:10449-1745236800-1745254800@wuppertalstingrays.de
SUMMARY:Herren - Stingrays vs. Untouchables 2
DESCRIPTION:2. Baseball-Bundesliga Nordwest – 2025 \n\n\n\nHerren – Wuppertal Stingrays vs. Untouchables Paderborn 2\n 
URL:https://wuppertalstingrays.de/event/herren-stingrays-vs-untouchables-paderborn-2-3/
LOCATION:Wuppertal Stingrays – Baseball\, Wuppertal Stingrays Ballpark\, Oberbergische Straße 87\, Wuppertal\, 42285
CATEGORIES:Herren
ATTACH;FMTTYPE=image/png:https://wuppertalstingrays.de/wp-content/uploads/2020/08/stingrays-vs-untouchables.png
END:VEVENT
BEGIN:VEVENT
DTSTART;TZID=Europe/Berlin:20250104T100000
DTEND;TZID=Europe/Berlin:20250104T160000
DTSTAMP:20260423T233438
CREATED:20241127T104224Z
LAST-MODIFIED:20241127T104226Z
UID:10414-1735984800-1736006400@wuppertalstingrays.de
SUMMARY:NEW YEARS CUP 2025
DESCRIPTION:Am 04.01.25 laden die Wuppertal Stingrays in Zusammenarbeit mit der Westfalenbande zum New Years Cup in die Bayerhalle ein. Gespielt wird auf drei Feldern in den Altersklassen U10 und U12 nach den gängigen Winterligaregeln.Der Eintritt ist frei und Zuschauer herzlich willkommen! \n\n\n\nNew Years Cup 2025\n\n\n\nDownload PDF-Plakat: NEW YEARS CUP 2025
URL:https://wuppertalstingrays.de/event/new-years-cup-2025/
LOCATION:Bayer Sporthalle Wuppertal\, Bayer Sporthalle\, Unten vorm Steeg 1\, 42329 Wuppertal\, Deutschland
ATTACH;FMTTYPE=image/jpeg:https://wuppertalstingrays.de/wp-content/uploads/2024/11/NewYearsCup-2025.jpg
END:VEVENT
BEGIN:VEVENT
DTSTART;TZID=Europe/Berlin:20241201T100000
DTEND;TZID=Europe/Berlin:20241201T170000
DTSTAMP:20260423T233438
CREATED:20241005T185137Z
LAST-MODIFIED:20241005T185139Z
UID:10370-1733047200-1733072400@wuppertalstingrays.de
SUMMARY:Nikolausturnier 2024
DESCRIPTION:Das traditionelle Baseball-Hallenturnier der Wuppertal Stingrays\n\n\n\nWinter is coming!\n\n\n\nDaher möchten wir am Sonntag\, den 01.12.2024\, jeweils Teams der U10 (Jahrgänge 2014 und jünger) sowie der U12 (Jahrgänge 2012 und 2013) zu unserem diesjährigen Hallenturnier in die Wuppertaler Bayerhalle einladen. \n\n\n\n\n\n\n\nWir spielen nach den Regeln der Winterliga des BSV NRW jeweils mit 6 Spielern auf je 1/3 der Halle. \n\n\n\nPlay ball ab 10:00 Uhr!Eintritt frei! \n\n\n\nWir freuen uns auf Euch!Wuppertal Stingrays \n 
URL:https://wuppertalstingrays.de/event/nikolausturnier-2024/
LOCATION:Bayer Sporthalle Wuppertal\, Bayer Sporthalle\, Unten vorm Steeg 1\, 42329 Wuppertal\, Deutschland
ATTACH;FMTTYPE=image/jpeg:https://wuppertalstingrays.de/wp-content/uploads/2024/10/Nikolausturnier-2024.jpg
END:VEVENT
BEGIN:VEVENT
DTSTART;TZID=Europe/Berlin:20241005T130000
DTEND;TZID=Europe/Berlin:20241005T150000
DTSTAMP:20260423T233438
CREATED:20240323T162110Z
LAST-MODIFIED:20240917T184925Z
UID:9788-1728133200-1728140400@wuppertalstingrays.de
SUMMARY:U10 - Stingrays vs Untouchables Paderborn
DESCRIPTION:U10 Toss Ball – 2024\nU10 – Wuppertal Stingrays vs Untouchables Paderborn
URL:https://wuppertalstingrays.de/event/u10-stingrays-vs-untouchables-paderborn-4/
LOCATION:Wuppertal Stingrays – Baseball\, Wuppertal Stingrays Ballpark\, Oberbergische Straße 87\, Wuppertal\, 42285
CATEGORIES:U10
ATTACH;FMTTYPE=image/png:https://wuppertalstingrays.de/wp-content/uploads/2020/08/stingrays-vs-untouchables.png
END:VEVENT
BEGIN:VEVENT
DTSTART;TZID=Europe/Berlin:20241005T110000
DTEND;TZID=Europe/Berlin:20241005T130000
DTSTAMP:20260423T233438
CREATED:20240323T162109Z
LAST-MODIFIED:20240917T184857Z
UID:9787-1728126000-1728133200@wuppertalstingrays.de
SUMMARY:U10 - Stingrays vs Untouchables Paderborn
DESCRIPTION:U10 Toss Ball – 2024\nU10 – Wuppertal Stingrays vs Untouchables Paderborn
URL:https://wuppertalstingrays.de/event/u10-stingrays-vs-untouchables-paderborn-3/
LOCATION:Wuppertal Stingrays – Baseball\, Wuppertal Stingrays Ballpark\, Oberbergische Straße 87\, Wuppertal\, 42285
CATEGORIES:U10
ATTACH;FMTTYPE=image/png:https://wuppertalstingrays.de/wp-content/uploads/2020/08/stingrays-vs-untouchables.png
END:VEVENT
BEGIN:VEVENT
DTSTART;TZID=Europe/Berlin:20240929T130000
DTEND;TZID=Europe/Berlin:20240929T150000
DTSTAMP:20260423T233438
CREATED:20240323T162240Z
LAST-MODIFIED:20240324T124315Z
UID:9819-1727614800-1727622000@wuppertalstingrays.de
SUMMARY:U10 - Stingrays vs Verl/Gütersloh Yaks
DESCRIPTION:U10 Toss Ball – 2024 U10 – Wuppertal Stingrays vs Verl/Gütersloh Yaks
URL:https://wuppertalstingrays.de/event/u10-stingrays-vs-verl-guetersloh-yaks-4/
LOCATION:Wuppertal Stingrays – Softball\, Tanimoto-Field - Baseballplatz SV Bayer Wuppertal\, Wuppertal\, 42285\, Deutschland
CATEGORIES:U10
ATTACH;FMTTYPE=image/png:https://wuppertalstingrays.de/wp-content/uploads/2020/08/stingrays-vs-yaks.png
END:VEVENT
END:VCALENDAR